BEGIN:VCALENDAR
VERSION:2.0
PRODID:-//Kentucky Music Hall of Fame and Museum - ECPv6.15.20//NONSGML v1.0//EN
CALSCALE:GREGORIAN
METHOD:PUBLISH
X-ORIGINAL-URL:https://kentuckymusichalloffame.com
X-WR-CALDESC:Events for Kentucky Music Hall of Fame and Museum
REFRESH-INTERVAL;VALUE=DURATION:PT1H
X-Robots-Tag:noindex
X-PUBLISHED-TTL:PT1H
BEGIN:VTIMEZONE
TZID:America/Detroit
BEGIN:DAYLIGHT
TZOFFSETFROM:-0500
TZOFFSETTO:-0400
TZNAME:EDT
DTSTART:20240310T070000
END:DAYLIGHT
BEGIN:STANDARD
TZOFFSETFROM:-0400
TZOFFSETTO:-0500
TZNAME:EST
DTSTART:20241103T060000
END:STANDARD
BEGIN:DAYLIGHT
TZOFFSETFROM:-0500
TZOFFSETTO:-0400
TZNAME:EDT
DTSTART:20250309T070000
END:DAYLIGHT
BEGIN:STANDARD
TZOFFSETFROM:-0400
TZOFFSETTO:-0500
TZNAME:EST
DTSTART:20251102T060000
END:STANDARD
BEGIN:DAYLIGHT
TZOFFSETFROM:-0500
TZOFFSETTO:-0400
TZNAME:EDT
DTSTART:20260308T070000
END:DAYLIGHT
BEGIN:STANDARD
TZOFFSETFROM:-0400
TZOFFSETTO:-0500
TZNAME:EST
DTSTART:20261101T060000
END:STANDARD
END:VTIMEZONE
BEGIN:VEVENT
DTSTART;TZID=America/Detroit:20251206T120000
DTEND;TZID=America/Detroit:20251206T140000
DTSTAMP:20260421T212336
CREATED:20251124T140658Z
LAST-MODIFIED:20251124T140658Z
UID:10000437-1765022400-1765029600@kentuckymusichalloffame.com
SUMMARY:Dispatching Goliath Book Signing with Michael Bryant\, Sr
DESCRIPTION:Join us for a special book signing as we celebrate with Rockcastle County native\, Michael W. Bryant\, Sr.\, with the release of his new book “Dispatching Goliath.” Books will be available for purchase and signed at the event inside the lobby of the KY Music Hall of Fame. Event will be on Saturday\, December 6\, 2025 from 12:00 PM to 2:00 PM.\n\nAbout Dispatching GoliathDrawing inspiration from the story of David and Goliath\, Dispatching Goliath offers a faith-based battle plan for facing the seemingly impossible challenges in your life. It reveals that the giants you face—be they fear\, doubt\, health challenges\, or past circumstances—are not obstacles to be endured\, but opportunities for a spectacular demonstration of God’s power. Like David\, use the stones you’ve been given in the Word of God to gain a complete victory over the giants in your life.\nIn his book\, Dispatching Goliath\, Mike Bryant relays a lifetime of wisdom and offers biblically-based advice for dispatching the giants in your life.\n\nAbout Michael W. Bryant\, Sr:Dr. Michael Wayne Bryant\, Sr. has been in the ministry for sixty years. He received his undergraduate degree from the University of the Cumberlands as well as receiving graduate degrees from International Seminary. He has served as an associate pastor\, senior pastor\, evangelist\, chaplain. He pastored several churches\, and has done mission work in Washington\, DC\, Mexico\, and Guatemala. Dr. Bryant has also served in more than a hundred religious\, civic\, charitable\, and other community organizations. Dispatching Goliath is his first book.
URL:https://kentuckymusichalloffame.com/event/dispatching-goliath-book-signing-with-michael-bryant-sr/
LOCATION:Kentucky Music Hall of Fame & Museum\, 2590 Richmond St.\, Mount Vernon\, KY\, 40456\, United States
CATEGORIES:Community Event
ATTACH;FMTTYPE=image/png:https://kentuckymusichalloffame.com/wp-content/uploads/2025/11/Brown-and-White-Modern-Book-Launch-Event-Instagram-Post.png
END:VEVENT
BEGIN:VEVENT
DTSTART;TZID=America/Detroit:20251130T100000
DTEND;TZID=America/Detroit:20251130T170000
DTSTAMP:20260421T212336
CREATED:20251124T135923Z
LAST-MODIFIED:20251124T135923Z
UID:10000436-1764496800-1764522000@kentuckymusichalloffame.com
SUMMARY:Museum Store Sunday
DESCRIPTION:Every year\, museums around the world come together to celebrate Museum Store Sunday\, and in 2025\, we’re excited to shine a spotlight on the artistry\, storytelling\, and community spirit that make our museum shop so special. \nMuseum Store Sunday—held this year on November 30\, 2025—is more than a shopping day. It’s a chance to support the Kentucky Music Hall of Fame and Museum and the local creators whose work fills our shelves. When you shop at our store\, every purchase has purpose: you’re helping preserve history\, spark curiosity\, and inspire future generations. \nFrom handcrafted gifts to locally made art\, books\, music\, toys\, and unique keepsakes you won’t find anywhere else\, our museum store offer something meaningful for everyone on your list. It’s the perfect way to kick off the holiday season while supporting the mission of your favorite museum. \nSo mark your calendar\, explore the incredible gift selection\, and join us in celebrating Museum Store Sunday 2025—where every purchase supports a story worth preserving.
URL:https://kentuckymusichalloffame.com/event/museum-store-sunday/
LOCATION:Kentucky Music Hall of Fame & Museum\, 2590 Richmond St.\, Mount Vernon\, KY\, 40456\, United States
CATEGORIES:Community Event
ATTACH;FMTTYPE=image/png:https://kentuckymusichalloffame.com/wp-content/uploads/2025/11/Black-Friday-Sale-Facebook-Post-2.png
END:VEVENT
BEGIN:VEVENT
DTSTART;TZID=America/Detroit:20251101T110000
DTEND;TZID=America/Detroit:20251101T160000
DTSTAMP:20260421T212336
CREATED:20250825T130158Z
LAST-MODIFIED:20250825T130158Z
UID:10000429-1761994800-1762012800@kentuckymusichalloffame.com
SUMMARY:Business of Songwriting Workshop
DESCRIPTION:Want to turn your songs into success? Join Grammy-winning singer-songwriter Rebecca Lynn Howard for the Business of Songwriting Workshop on Friday\, November 1st from 11AM–4PM at the Kentucky Music Hall of Fame. Learn about: Copyrighting & Publishing Streaming & Royalties How to Get Paid for Your Songs And more! Cost: $50 per person Limited spots available – don’t miss out! Reserve your seat today and take the next step in your songwriting journey. To register\, go to https://forms.gle/1yF4QWRfmizz7NBJ8 or send a message.This program is made possible through the Sanderson Music Fund.
URL:https://kentuckymusichalloffame.com/event/business-of-songwriting-workshop/
LOCATION:Kentucky Music Hall of Fame & Museum\, 2590 Richmond St.\, Mount Vernon\, KY\, 40456\, United States
CATEGORIES:Community Event,Workshop
ATTACH;FMTTYPE=image/png:https://kentuckymusichalloffame.com/wp-content/uploads/2025/08/Workshop-Instagram-Post.png
END:VEVENT
END:VCALENDAR