BEGIN:VCALENDAR
VERSION:2.0
PRODID:-//Kentucky Music Hall of Fame and Museum - ECPv6.15.20//NONSGML v1.0//EN
CALSCALE:GREGORIAN
METHOD:PUBLISH
X-ORIGINAL-URL:https://kentuckymusichalloffame.com
X-WR-CALDESC:Events for Kentucky Music Hall of Fame and Museum
REFRESH-INTERVAL;VALUE=DURATION:PT1H
X-Robots-Tag:noindex
X-PUBLISHED-TTL:PT1H
BEGIN:VTIMEZONE
TZID:America/Detroit
BEGIN:DAYLIGHT
TZOFFSETFROM:-0500
TZOFFSETTO:-0400
TZNAME:EDT
DTSTART:20250309T070000
END:DAYLIGHT
BEGIN:STANDARD
TZOFFSETFROM:-0400
TZOFFSETTO:-0500
TZNAME:EST
DTSTART:20251102T060000
END:STANDARD
BEGIN:DAYLIGHT
TZOFFSETFROM:-0500
TZOFFSETTO:-0400
TZNAME:EDT
DTSTART:20260308T070000
END:DAYLIGHT
BEGIN:STANDARD
TZOFFSETFROM:-0400
TZOFFSETTO:-0500
TZNAME:EST
DTSTART:20261101T060000
END:STANDARD
BEGIN:DAYLIGHT
TZOFFSETFROM:-0500
TZOFFSETTO:-0400
TZNAME:EDT
DTSTART:20270314T070000
END:DAYLIGHT
BEGIN:STANDARD
TZOFFSETFROM:-0400
TZOFFSETTO:-0500
TZNAME:EST
DTSTART:20271107T060000
END:STANDARD
END:VTIMEZONE
BEGIN:VEVENT
DTSTART;TZID=America/Detroit:20260627T120000
DTEND;TZID=America/Detroit:20260627T140000
DTSTAMP:20260421T154137
CREATED:20260323T121447Z
LAST-MODIFIED:20260323T121447Z
UID:10000445-1782561600-1782568800@kentuckymusichalloffame.com
SUMMARY:Singer Songwriter Series with Josh Mitcham\, Philip Bowen\, and Charity Gilbert
DESCRIPTION:Experience the stories behind the songs at the Kentucky Music Hall of Fame & Museum!\nJoin us for our Singer Songwriter Series\, where talented artists take the stage every performance at noon right inside our lobby.\nThese intimate sessions feature songwriters performing all original music and sharing the personal stories\, inspiration\, and moments that brought each song to life.\n Free to attend Featuring Josh Mitcham\, Philip Bowen\, Charity Gilbert\, and host Donovan Howard Donations accepted for Sanderson Music Fund\nWhether you’re a lifelong music lover or just passing through\, it’s a unique way to connect with Kentucky’s rich musical roots.Come take a midday break with us—you never know which song will stay with you.
URL:https://kentuckymusichalloffame.com/event/singer-songwriter-series-with-josh-mitcham-philip-bowen-and-charity-gilbert/
LOCATION:Kentucky Music Hall of Fame & Museum\, 2590 Richmond St.\, Mount Vernon\, KY\, 40456\, United States
CATEGORIES:Community Event,Concert
ATTACH;FMTTYPE=image/webp:https://kentuckymusichalloffame.com/wp-content/uploads/2026/03/June.webp
END:VEVENT
BEGIN:VEVENT
DTSTART;TZID=America/Detroit:20260725T120000
DTEND;TZID=America/Detroit:20260725T140000
DTSTAMP:20260421T154137
CREATED:20260323T121626Z
LAST-MODIFIED:20260323T121626Z
UID:10000446-1784980800-1784988000@kentuckymusichalloffame.com
SUMMARY:Tommy Cate's Gospel Open Jam Session
DESCRIPTION:Experience the stories behind the songs at the Kentucky Music Hall of Fame & Museum!\nJoin us for our Singer Songwriter Series\, where talented artists take the stage every performance at noon right inside our lobby.\nThese intimate sessions feature songwriters performing all original music and sharing the personal stories\, inspiration\, and moments that brought each song to life.\n Free to attend Featuring Tommy Cate Donations accepted for Sanderson Music Fund\nWhether you’re a lifelong music lover or just passing through\, it’s a unique way to connect with Kentucky’s rich musical roots.Come take a midday break with us—you never know which song will stay with you.
URL:https://kentuckymusichalloffame.com/event/tommy-cates-gospel-open-jam-session/
LOCATION:Kentucky Music Hall of Fame & Museum\, 2590 Richmond St.\, Mount Vernon\, KY\, 40456\, United States
CATEGORIES:Community Event,Concert
ATTACH;FMTTYPE=image/webp:https://kentuckymusichalloffame.com/wp-content/uploads/2026/03/july.webp
END:VEVENT
BEGIN:VEVENT
DTSTART;TZID=America/Detroit:20260822T120000
DTEND;TZID=America/Detroit:20260822T140000
DTSTAMP:20260421T154137
CREATED:20260323T121810Z
LAST-MODIFIED:20260323T121810Z
UID:10000447-1787400000-1787407200@kentuckymusichalloffame.com
SUMMARY:Singer Songwriter Series featuring Clarke Sexton\, Keagan Hatton\, Shelby Lore
DESCRIPTION:Experience the stories behind the songs at the Kentucky Music Hall of Fame & Museum!\nJoin us for our Singer Songwriter Series\, where talented artists take the stage every performance at noon right inside our lobby.\nThese intimate sessions feature songwriters performing all original music and sharing the personal stories\, inspiration\, and moments that brought each song to life.\n Free to attend Featuring Clarke Sexton\, Keagan Hatton\, Shelby Lore\, and host Donovan Howard Donations accepted for Sanderson Music Fund\nWhether you’re a lifelong music lover or just passing through\, it’s a unique way to connect with Kentucky’s rich musical roots.Come take a midday break with us—you never know which song will stay with you.
URL:https://kentuckymusichalloffame.com/event/singer-songwriter-series-featuring-clarke-sexton-keagan-hatton-shelby-lore/
LOCATION:Kentucky Music Hall of Fame & Museum\, 2590 Richmond St.\, Mount Vernon\, KY\, 40456\, United States
CATEGORIES:Community Event,Concert
ATTACH;FMTTYPE=image/webp:https://kentuckymusichalloffame.com/wp-content/uploads/2026/03/August.webp
END:VEVENT
BEGIN:VEVENT
DTSTART;TZID=America/Detroit:20260912T100000
DTEND;TZID=America/Detroit:20260912T170000
DTSTAMP:20260421T154137
CREATED:20251020T190744Z
LAST-MODIFIED:20251020T190744Z
UID:10000435-1789207200-1789232400@kentuckymusichalloffame.com
SUMMARY:6th Annual Kentucky Food Truck Championship
DESCRIPTION:Join us for the 6th Annual Kentucky Food Truck Championship to be held on Saturday\, September 12\, 2026.  Stay tuned for additional details coming January 2026 for food trucks\, craft vendors\, and live music entertainment application.
URL:https://kentuckymusichalloffame.com/event/6th-annual-kentucky-food-truck-championship/
LOCATION:Kentucky Music Hall of Fame & Museum\, 2590 Richmond St.\, Mount Vernon\, KY\, 40456\, United States
CATEGORIES:Community Event,Concert
ATTACH;FMTTYPE=image/png:https://kentuckymusichalloffame.com/wp-content/uploads/2025/10/2026-Food-Truck-Championship.png
END:VEVENT
BEGIN:VEVENT
DTSTART;TZID=America/Detroit:20260926T120000
DTEND;TZID=America/Detroit:20260926T140000
DTSTAMP:20260421T154137
CREATED:20260323T121948Z
LAST-MODIFIED:20260323T140547Z
UID:10000448-1790424000-1790431200@kentuckymusichalloffame.com
SUMMARY:Singer Songwriter Series with Tony Logue\, Jeremy and Della Marshall\, and Jason and Amy Bowman
DESCRIPTION:Experience the stories behind the songs at the Kentucky Music Hall of Fame & Museum!\nJoin us for our Singer Songwriter Series\, where talented artists take the stage every performance at noon right inside our lobby.\nThese intimate sessions feature songwriters performing all original music and sharing the personal stories\, inspiration\, and moments that brought each song to life.\n Free to attend Featuring Tony Logue\, Jeremy & Della Marshall\, Jason & Amy Bowman\, and host Donovan Howard Donations accepted for Sanderson Music Fund\nWhether you’re a lifelong music lover or just passing through\, it’s a unique way to connect with Kentucky’s rich musical roots.Come take a midday break with us—you never know which song will stay with you.
URL:https://kentuckymusichalloffame.com/event/songwriter-series-september-2026/
LOCATION:Kentucky Music Hall of Fame & Museum\, 2590 Richmond St.\, Mount Vernon\, KY\, 40456\, United States
CATEGORIES:Community Event,Concert
ATTACH;FMTTYPE=image/webp:https://kentuckymusichalloffame.com/wp-content/uploads/2026/03/September.webp
END:VEVENT
BEGIN:VEVENT
DTSTART;TZID=America/Detroit:20261121T120000
DTEND;TZID=America/Detroit:20261121T140000
DTSTAMP:20260421T154137
CREATED:20260323T122135Z
LAST-MODIFIED:20260323T122135Z
UID:10000449-1795262400-1795269600@kentuckymusichalloffame.com
SUMMARY:Singer Songwriter Series Featuring Cody Lee Meece\, John Isaacs\, and Rick Potter
DESCRIPTION:Experience the stories behind the songs at the Kentucky Music Hall of Fame & Museum!\nJoin us for our Singer Songwriter Series\, where talented artists take the stage every performance at noon right inside our lobby.\nThese intimate sessions feature songwriters performing all original music and sharing the personal stories\, inspiration\, and moments that brought each song to life.\n Free to attend Featuring Cody Lee Meece\, John Isaacs\, Rick Potter\, and host Donovan Howard Donations accepted for Sanderson Music Fund\nWhether you’re a lifelong music lover or just passing through\, it’s a unique way to connect with Kentucky’s rich musical roots.Come take a midday break with us—you never know which song will stay with you.
URL:https://kentuckymusichalloffame.com/event/singer-songwriter-series-cody-lee-meece/
LOCATION:Kentucky Music Hall of Fame & Museum\, 2590 Richmond St.\, Mount Vernon\, KY\, 40456\, United States
CATEGORIES:Community Event,Concert
ATTACH;FMTTYPE=image/webp:https://kentuckymusichalloffame.com/wp-content/uploads/2026/03/nov.webp
END:VEVENT
BEGIN:VEVENT
DTSTART;TZID=America/Detroit:20261219T120000
DTEND;TZID=America/Detroit:20261219T140000
DTSTAMP:20260421T154137
CREATED:20260323T122305Z
LAST-MODIFIED:20260323T122305Z
UID:10000450-1797681600-1797688800@kentuckymusichalloffame.com
SUMMARY:Singer Songwriter Series featuring Emily Jamerson\, Josh Mitcham\, and Zoe Howard
DESCRIPTION:Experience the stories behind the songs at the Kentucky Music Hall of Fame & Museum!\nJoin us for our Singer Songwriter Series\, where talented artists take the stage every performance at noon right inside our lobby.\nThese intimate sessions feature songwriters performing all original music and sharing the personal stories\, inspiration\, and moments that brought each song to life.\n Free to attend Featuring Emily Jamerson\, Josh Mitcham\, Zoe Howard\, and host Donovan Howard Donations accepted for Sanderson Music Fund\nWhether you’re a lifelong music lover or just passing through\, it’s a unique way to connect with Kentucky’s rich musical roots.Come take a midday break with us—you never know which song will stay with you.
URL:https://kentuckymusichalloffame.com/event/singer-songwriter-series-featuring-emily-jamerson-josh-mitcham-and-zoe-howard/
LOCATION:Kentucky Music Hall of Fame & Museum\, 2590 Richmond St.\, Mount Vernon\, KY\, 40456\, United States
CATEGORIES:Community Event,Concert
ATTACH;FMTTYPE=image/webp:https://kentuckymusichalloffame.com/wp-content/uploads/2026/03/dec.webp
END:VEVENT
END:VCALENDAR