BEGIN:VCALENDAR
VERSION:2.0
PRODID:-//Kentucky Music Hall of Fame and Museum - ECPv6.15.20//NONSGML v1.0//EN
CALSCALE:GREGORIAN
METHOD:PUBLISH
X-WR-CALNAME:Kentucky Music Hall of Fame and Museum
X-ORIGINAL-URL:https://kentuckymusichalloffame.com
X-WR-CALDESC:Events for Kentucky Music Hall of Fame and Museum
REFRESH-INTERVAL;VALUE=DURATION:PT1H
X-Robots-Tag:noindex
X-PUBLISHED-TTL:PT1H
BEGIN:VTIMEZONE
TZID:America/Detroit
BEGIN:DAYLIGHT
TZOFFSETFROM:-0500
TZOFFSETTO:-0400
TZNAME:EDT
DTSTART:20240310T070000
END:DAYLIGHT
BEGIN:STANDARD
TZOFFSETFROM:-0400
TZOFFSETTO:-0500
TZNAME:EST
DTSTART:20241103T060000
END:STANDARD
BEGIN:DAYLIGHT
TZOFFSETFROM:-0500
TZOFFSETTO:-0400
TZNAME:EDT
DTSTART:20250309T070000
END:DAYLIGHT
BEGIN:STANDARD
TZOFFSETFROM:-0400
TZOFFSETTO:-0500
TZNAME:EST
DTSTART:20251102T060000
END:STANDARD
BEGIN:DAYLIGHT
TZOFFSETFROM:-0500
TZOFFSETTO:-0400
TZNAME:EDT
DTSTART:20260308T070000
END:DAYLIGHT
BEGIN:STANDARD
TZOFFSETFROM:-0400
TZOFFSETTO:-0500
TZNAME:EST
DTSTART:20261101T060000
END:STANDARD
END:VTIMEZONE
BEGIN:VEVENT
DTSTART;TZID=America/Detroit:20251101T110000
DTEND;TZID=America/Detroit:20251101T160000
DTSTAMP:20260421T155756
CREATED:20250825T130158Z
LAST-MODIFIED:20250825T130158Z
UID:10000429-1761994800-1762012800@kentuckymusichalloffame.com
SUMMARY:Business of Songwriting Workshop
DESCRIPTION:Want to turn your songs into success? Join Grammy-winning singer-songwriter Rebecca Lynn Howard for the Business of Songwriting Workshop on Friday\, November 1st from 11AM–4PM at the Kentucky Music Hall of Fame. Learn about: Copyrighting & Publishing Streaming & Royalties How to Get Paid for Your Songs And more! Cost: $50 per person Limited spots available – don’t miss out! Reserve your seat today and take the next step in your songwriting journey. To register\, go to https://forms.gle/1yF4QWRfmizz7NBJ8 or send a message.This program is made possible through the Sanderson Music Fund.
URL:https://kentuckymusichalloffame.com/event/business-of-songwriting-workshop/
LOCATION:Kentucky Music Hall of Fame & Museum\, 2590 Richmond St.\, Mount Vernon\, KY\, 40456\, United States
CATEGORIES:Community Event,Workshop
ATTACH;FMTTYPE=image/png:https://kentuckymusichalloffame.com/wp-content/uploads/2025/08/Workshop-Instagram-Post.png
END:VEVENT
END:VCALENDAR